BEGIN:VCALENDAR
VERSION:2.0
PRODID:-//Leadership Fiji - ECPv6.15.20//NONSGML v1.0//EN
CALSCALE:GREGORIAN
METHOD:PUBLISH
X-ORIGINAL-URL:https://leadershipfiji.org
X-WR-CALDESC:Events for Leadership Fiji
REFRESH-INTERVAL;VALUE=DURATION:PT1H
X-Robots-Tag:noindex
X-PUBLISHED-TTL:PT1H
BEGIN:VTIMEZONE
TZID:UTC
BEGIN:STANDARD
TZOFFSETFROM:+0000
TZOFFSETTO:+0000
TZNAME:UTC
DTSTART:20210101T000000
END:STANDARD
END:VTIMEZONE
BEGIN:VEVENT
DTSTART;TZID=UTC:20220927T090000
DTEND;TZID=UTC:20220927T090000
DTSTAMP:20260425T020012
CREATED:20220909T051756Z
LAST-MODIFIED:20220909T051756Z
UID:12650-1664269200-1664269200@leadershipfiji.org
SUMMARY:Pacific Youth Leadership Workshop
DESCRIPTION:The Archipelagic and Island States Forum’s (aisforum) in collaboration with UNDP Multi Country Office Pacific\, Oxfam International and Leadership Fiji will be hosting a Youth Leadership Workshop in Ocean Governance with a focus on Leading Change in Communities. \nThe Workshop is scheduled for Tuesday 27th September from 9am. Limited space is available so hurry and register now. \nDetails in the flyer and the link to register for this workshop is here >>> https://buff.ly/3Bs2sZb or visit AIS Forum Website here >>> https://buff.ly/3xctq4x
URL:https://leadershipfiji.org/event/pacific-youth-leadership-workshop/
LOCATION:Greenhouse CoWorking Space\, 33 Des Voeux Rd\, Suva\, Fiji
CATEGORIES:Events
ATTACH;FMTTYPE=image/jpeg:https://leadershipfiji.org/wp-content/uploads/2022/09/AIS-FORUM-Youth-Leadership-Workshop-Flyer.jpg
END:VEVENT
END:VCALENDAR