BEGIN:VCALENDAR
VERSION:2.0
PRODID:-//Leadership Fiji - ECPv6.15.20//NONSGML v1.0//EN
CALSCALE:GREGORIAN
METHOD:PUBLISH
X-WR-CALNAME:Leadership Fiji
X-ORIGINAL-URL:https://leadershipfiji.org
X-WR-CALDESC:Events for Leadership Fiji
REFRESH-INTERVAL;VALUE=DURATION:PT1H
X-Robots-Tag:noindex
X-PUBLISHED-TTL:PT1H
BEGIN:VTIMEZONE
TZID:Pacific/Fiji
BEGIN:STANDARD
TZOFFSETFROM:+1300
TZOFFSETTO:+1200
TZNAME:+12
DTSTART:20200111T140000
END:STANDARD
BEGIN:DAYLIGHT
TZOFFSETFROM:+1200
TZOFFSETTO:+1300
TZNAME:+13
DTSTART:20201219T140000
END:DAYLIGHT
BEGIN:STANDARD
TZOFFSETFROM:+1300
TZOFFSETTO:+1200
TZNAME:+12
DTSTART:20210116T140000
END:STANDARD
END:VTIMEZONE
BEGIN:VTIMEZONE
TZID:UTC
BEGIN:STANDARD
TZOFFSETFROM:+0000
TZOFFSETTO:+0000
TZNAME:UTC
DTSTART:20210101T000000
END:STANDARD
END:VTIMEZONE
BEGIN:VEVENT
DTSTART;TZID=Pacific/Fiji:20210422T120000
DTEND;TZID=Pacific/Fiji:20210422T143000
DTSTAMP:20260423T100426
CREATED:20210310T221218Z
LAST-MODIFIED:20210321T212151Z
UID:12457-1619092800-1619101800@leadershipfiji.org
SUMMARY:Courageous Conversation Beyond Diversity
DESCRIPTION:
URL:https://leadershipfiji.org/event/courageous-conversation-beyond-diversity/
CATEGORIES:Events
ATTACH;FMTTYPE=image/jpeg:https://leadershipfiji.org/wp-content/uploads/2021/03/Flyer-Courageous-Conversation-Beyond-Diversity-1.jpg
END:VEVENT
BEGIN:VEVENT
DTSTART;TZID=Pacific/Fiji:20210504T100000
DTEND;TZID=Pacific/Fiji:20210506T120000
DTSTAMP:20260423T100426
CREATED:20210407T213739Z
LAST-MODIFIED:20210407T213740Z
UID:12484-1620122400-1620302400@leadershipfiji.org
SUMMARY:Kids Lead Up Series
DESCRIPTION:Get your child to lead. Being a leader will help your child build confidence and succeed in activities like group projects\, team sports\, clubs\, civic responsibility and helping others.\nThis Kids Lead Up Series is a virtual 3-part leadership program targeting children who are in classes/grades 5 to 8.\nRegister your child for this virtual program and prepare them to lead. Details in the Flyer. \nRegister online through the link here https://form.jotform.com/201341520124840 or scan the QR Code in the Flyer.
URL:https://leadershipfiji.org/event/kids-lead-up-series-3/
ATTACH;FMTTYPE=image/png:https://leadershipfiji.org/wp-content/uploads/2021/04/Kids-Lead-Up-Series-Flyer.png
END:VEVENT
BEGIN:VEVENT
DTSTART;TZID=UTC:20220927T090000
DTEND;TZID=UTC:20220927T090000
DTSTAMP:20260423T100426
CREATED:20220909T051756Z
LAST-MODIFIED:20220909T051756Z
UID:12650-1664269200-1664269200@leadershipfiji.org
SUMMARY:Pacific Youth Leadership Workshop
DESCRIPTION:The Archipelagic and Island States Forum’s (aisforum) in collaboration with UNDP Multi Country Office Pacific\, Oxfam International and Leadership Fiji will be hosting a Youth Leadership Workshop in Ocean Governance with a focus on Leading Change in Communities. \nThe Workshop is scheduled for Tuesday 27th September from 9am. Limited space is available so hurry and register now. \nDetails in the flyer and the link to register for this workshop is here >>> https://buff.ly/3Bs2sZb or visit AIS Forum Website here >>> https://buff.ly/3xctq4x
URL:https://leadershipfiji.org/event/pacific-youth-leadership-workshop/
LOCATION:Greenhouse CoWorking Space\, 33 Des Voeux Rd\, Suva\, Fiji
CATEGORIES:Events
ATTACH;FMTTYPE=image/jpeg:https://leadershipfiji.org/wp-content/uploads/2022/09/AIS-FORUM-Youth-Leadership-Workshop-Flyer.jpg
END:VEVENT
BEGIN:VEVENT
DTSTART;VALUE=DATE:20221001
DTEND;VALUE=DATE:20221002
DTSTAMP:20260423T100426
CREATED:20220815T194008Z
LAST-MODIFIED:20220815T194008Z
UID:12640-1664582400-1664668799@leadershipfiji.org
SUMMARY:Advocacy Challenge - International Day for Older People (Team Activity)
DESCRIPTION:
URL:https://leadershipfiji.org/event/advocacy-challenge-international-day-for-older-people-team-activity/
CATEGORIES:Events
END:VEVENT
BEGIN:VEVENT
DTSTART;VALUE=DATE:20221104
DTEND;VALUE=DATE:20221105
DTSTAMP:20260423T100426
CREATED:20220815T194226Z
LAST-MODIFIED:20220815T194227Z
UID:12642-1667520000-1667606399@leadershipfiji.org
SUMMARY:2022 Class Graduation
DESCRIPTION:
URL:https://leadershipfiji.org/event/2022-class-graduation/
CATEGORIES:Events
END:VEVENT
BEGIN:VEVENT
DTSTART;VALUE=DATE:20230629
DTEND;VALUE=DATE:20230630
DTSTAMP:20260423T100426
CREATED:20230530T214548Z
LAST-MODIFIED:20230530T214548Z
UID:12724-1687996800-1688083199@leadershipfiji.org
SUMMARY:Advocacy Challenge - International Day of the Tropics (Team Activity)
DESCRIPTION:
URL:https://leadershipfiji.org/event/advocacy-challenge-international-day-of-the-tropics-team-activity/
CATEGORIES:Events
END:VEVENT
BEGIN:VEVENT
DTSTART;VALUE=DATE:20230730
DTEND;VALUE=DATE:20230731
DTSTAMP:20260423T100426
CREATED:20230530T214641Z
LAST-MODIFIED:20230530T214641Z
UID:12726-1690675200-1690761599@leadershipfiji.org
SUMMARY:Advocacy Challenge - International Day of Friendship (Team Activity)
DESCRIPTION:
URL:https://leadershipfiji.org/event/advocacy-challenge-international-day-of-friendship-team-activity/
CATEGORIES:Events
END:VEVENT
BEGIN:VEVENT
DTSTART;VALUE=DATE:20230905
DTEND;VALUE=DATE:20230906
DTSTAMP:20260423T100426
CREATED:20230530T214809Z
LAST-MODIFIED:20230530T214810Z
UID:12728-1693872000-1693958399@leadershipfiji.org
SUMMARY:Advocacy Challenge - International Day of Charity (Team Activity)
DESCRIPTION:
URL:https://leadershipfiji.org/event/advocacy-challenge-international-day-of-charity-team-activity/
CATEGORIES:Events
END:VEVENT
BEGIN:VEVENT
DTSTART;VALUE=DATE:20231015
DTEND;VALUE=DATE:20231016
DTSTAMP:20260423T100426
CREATED:20230530T214937Z
LAST-MODIFIED:20230530T214937Z
UID:12730-1697328000-1697414399@leadershipfiji.org
SUMMARY:Advocacy Challenge - International Day of Rural Women (Team Activity)
DESCRIPTION:
URL:https://leadershipfiji.org/event/advocacy-challenge-international-day-of-rural-women-team-activity/
CATEGORIES:Events
END:VEVENT
BEGIN:VEVENT
DTSTART;VALUE=DATE:20231110
DTEND;VALUE=DATE:20231111
DTSTAMP:20260423T100426
CREATED:20230530T215021Z
LAST-MODIFIED:20230530T215021Z
UID:12732-1699574400-1699660799@leadershipfiji.org
SUMMARY:2023 Class Graduation
DESCRIPTION:
URL:https://leadershipfiji.org/event/2023-class-graduation/
CATEGORIES:Events
END:VEVENT
BEGIN:VEVENT
DTSTART;VALUE=DATE:20240229
DTEND;VALUE=DATE:20240301
DTSTAMP:20260423T100426
CREATED:20240214T231350Z
LAST-MODIFIED:20240214T231350Z
UID:12884-1709164800-1709251199@leadershipfiji.org
SUMMARY:2024 Launch Cocktail & Induction of 2022 Fellows
DESCRIPTION:
URL:https://leadershipfiji.org/event/2024-launch-cocktail-induction-of-2022-fellows/
END:VEVENT
BEGIN:VEVENT
DTSTART;VALUE=DATE:20240601
DTEND;VALUE=DATE:20240602
DTSTAMP:20260423T100426
CREATED:20240214T231511Z
LAST-MODIFIED:20240214T231511Z
UID:12886-1717200000-1717286399@leadershipfiji.org
SUMMARY:Advocacy Challenge – Global Day of Parents (Team Activity)
DESCRIPTION:
URL:https://leadershipfiji.org/event/advocacy-challenge-global-day-of-parents-team-activity/
END:VEVENT
BEGIN:VEVENT
DTSTART;VALUE=DATE:20240706
DTEND;VALUE=DATE:20240707
DTSTAMP:20260423T100426
CREATED:20240214T231600Z
LAST-MODIFIED:20240214T231600Z
UID:12888-1720224000-1720310399@leadershipfiji.org
SUMMARY:Advocacy Challenge - International Day of Cooperatives (Team Activity)
DESCRIPTION:
URL:https://leadershipfiji.org/event/advocacy-challenge-international-day-of-cooperatives-team-activity/
END:VEVENT
BEGIN:VEVENT
DTSTART;VALUE=DATE:20240819
DTEND;VALUE=DATE:20240820
DTSTAMP:20260423T100426
CREATED:20240214T231640Z
LAST-MODIFIED:20240214T231640Z
UID:12890-1724025600-1724111999@leadershipfiji.org
SUMMARY:Advocacy Challenge – World Humanitarian Day (Team Activity)
DESCRIPTION:
URL:https://leadershipfiji.org/event/advocacy-challenge-world-humanitarian-day-team-activity/
END:VEVENT
BEGIN:VEVENT
DTSTART;VALUE=DATE:20240915
DTEND;VALUE=DATE:20240916
DTSTAMP:20260423T100426
CREATED:20240214T231725Z
LAST-MODIFIED:20240214T231725Z
UID:12892-1726358400-1726444799@leadershipfiji.org
SUMMARY:Advocacy Challenge - International Day of Democracy (Team Activity)
DESCRIPTION:
URL:https://leadershipfiji.org/event/advocacy-challenge-international-day-of-democracy-team-activity/
END:VEVENT
BEGIN:VEVENT
DTSTART;VALUE=DATE:20241001
DTEND;VALUE=DATE:20241002
DTSTAMP:20260423T100426
CREATED:20240214T231801Z
LAST-MODIFIED:20240214T231801Z
UID:12894-1727740800-1727827199@leadershipfiji.org
SUMMARY:International Day of Older Persons (Team Activity)
DESCRIPTION:
URL:https://leadershipfiji.org/event/international-day-of-older-persons-team-activity/
END:VEVENT
BEGIN:VEVENT
DTSTART;VALUE=DATE:20241025
DTEND;VALUE=DATE:20241026
DTSTAMP:20260423T100426
CREATED:20240214T231921Z
LAST-MODIFIED:20240214T231921Z
UID:12896-1729814400-1729900799@leadershipfiji.org
SUMMARY:LF2024 Class Graduation
DESCRIPTION:
URL:https://leadershipfiji.org/event/lf2024-class-graduation/
END:VEVENT
END:VCALENDAR