BEGIN:VCALENDAR
VERSION:2.0
PRODID:-//Leadership Fiji - ECPv6.15.20//NONSGML v1.0//EN
CALSCALE:GREGORIAN
METHOD:PUBLISH
X-WR-CALNAME:Leadership Fiji
X-ORIGINAL-URL:https://leadershipfiji.org
X-WR-CALDESC:Events for Leadership Fiji
REFRESH-INTERVAL;VALUE=DURATION:PT1H
X-Robots-Tag:noindex
X-PUBLISHED-TTL:PT1H
BEGIN:VTIMEZONE
TZID:Pacific/Fiji
BEGIN:STANDARD
TZOFFSETFROM:+1300
TZOFFSETTO:+1200
TZNAME:+12
DTSTART:20160116T140000
END:STANDARD
BEGIN:DAYLIGHT
TZOFFSETFROM:+1200
TZOFFSETTO:+1300
TZNAME:+13
DTSTART:20161105T140000
END:DAYLIGHT
BEGIN:STANDARD
TZOFFSETFROM:+1300
TZOFFSETTO:+1200
TZNAME:+12
DTSTART:20170114T140000
END:STANDARD
BEGIN:DAYLIGHT
TZOFFSETFROM:+1200
TZOFFSETTO:+1300
TZNAME:+13
DTSTART:20171104T140000
END:DAYLIGHT
BEGIN:STANDARD
TZOFFSETFROM:+1300
TZOFFSETTO:+1200
TZNAME:+12
DTSTART:20180113T140000
END:STANDARD
BEGIN:DAYLIGHT
TZOFFSETFROM:+1200
TZOFFSETTO:+1300
TZNAME:+13
DTSTART:20181103T140000
END:DAYLIGHT
BEGIN:STANDARD
TZOFFSETFROM:+1300
TZOFFSETTO:+1200
TZNAME:+12
DTSTART:20190112T140000
END:STANDARD
BEGIN:DAYLIGHT
TZOFFSETFROM:+1200
TZOFFSETTO:+1300
TZNAME:+13
DTSTART:20191109T140000
END:DAYLIGHT
BEGIN:STANDARD
TZOFFSETFROM:+1300
TZOFFSETTO:+1200
TZNAME:+12
DTSTART:20200111T140000
END:STANDARD
BEGIN:DAYLIGHT
TZOFFSETFROM:+1200
TZOFFSETTO:+1300
TZNAME:+13
DTSTART:20201219T140000
END:DAYLIGHT
BEGIN:STANDARD
TZOFFSETFROM:+1300
TZOFFSETTO:+1200
TZNAME:+12
DTSTART:20210116T140000
END:STANDARD
END:VTIMEZONE
BEGIN:VEVENT
DTSTART;VALUE=DATE:20200201
DTEND;VALUE=DATE:20200203
DTSTAMP:20260424T055953
CREATED:20200107T233623Z
LAST-MODIFIED:20200426T224829Z
UID:12271-1580515200-1580687999@leadershipfiji.org
SUMMARY:Job Skills Workshop
DESCRIPTION:Choose to attend one of three of our Workshops\, custom built and delivered by our experienced facilitators. This Workshop is designed for High School and Uni leavers and will give you practical tips on mastering yourself (including CV writing and handling interviews) and dressing for success. Limited space is available. \nRegister here now \n 
URL:https://leadershipfiji.org/event/job-skills-workshop/
CATEGORIES:Events
ATTACH;FMTTYPE=image/jpeg:https://leadershipfiji.org/wp-content/uploads/2020/01/Job-Skills-Workshop-Flyer.jpg
END:VEVENT
BEGIN:VEVENT
DTSTART;TZID=Pacific/Fiji:20200130T120000
DTEND;TZID=Pacific/Fiji:20200130T140000
DTSTAMP:20260424T055953
CREATED:20200107T225533Z
LAST-MODIFIED:20200116T043621Z
UID:12268-1580385600-1580392800@leadershipfiji.org
SUMMARY:Courageous Conversation Series
DESCRIPTION:The aim of having these Courageous Conversation Series is to inspire individuals and organisations to take action that challenge stereotypes and promote equal and respectful relationships. Let’s talk about these real matters. The first of our Courageous Conversation Series is on Diversity and Inclusion on Thursday 30th January with Malcolm Fiahlo\, former Associate Director of Equity and Diversity at the University of Western Australia. \nRegister now through this link here \n 
URL:https://leadershipfiji.org/event/courageous-conversation-series/
CATEGORIES:Events
ATTACH;FMTTYPE=image/jpeg:https://leadershipfiji.org/wp-content/uploads/2020/01/Courageous-Conversation-Series-Flyer-Diversity-Inclusion.jpg
END:VEVENT
BEGIN:VEVENT
DTSTART;TZID=Pacific/Fiji:20191113T074500
DTEND;TZID=Pacific/Fiji:20191113T074500
DTSTAMP:20260424T055953
CREATED:20191031T230056Z
LAST-MODIFIED:20191031T235832Z
UID:12228-1573631100-1573631100@leadershipfiji.org
SUMMARY:Substance Abuse – Let’s Talk About It! Finding a Fijian Solution!
DESCRIPTION:“Substance Abuse – Let’s Talk About It! Finding a Fijian Solution!” is inviting various stakeholders who are involved in trying to combat drugs and its abuse. The exciting plenary is focused on the theme on ‘Finding Solutions’ and will convene around 100 various stakeholders from Government Ministries\, Private Sector\, Civil Societies\, Communities and Young People to participate in raising their concerns as well as finding solutions on how to combat such an issue that lies prevalent in our society. \nClick here to register! \n  \n \n 
URL:https://leadershipfiji.org/event/substance-abuse-lets-talk-about-it-finding-a-fijian-solution/
LOCATION:AusAid Lecture Theatre\, USP Laucala Campus\, Tagimoucia Place\, Suva\, Suva\, Fiji
CATEGORIES:Events
ATTACH;FMTTYPE=image/jpeg:https://leadershipfiji.org/wp-content/uploads/2019/11/Substance-Abuse-Lets-Talk-About-It-Flyer-thumb.jpg
END:VEVENT
BEGIN:VEVENT
DTSTART;VALUE=DATE:20190927
DTEND;VALUE=DATE:20190928
DTSTAMP:20260424T055953
CREATED:20190722T000858Z
LAST-MODIFIED:20190801T023513Z
UID:12197-1569542400-1569628799@leadershipfiji.org
SUMMARY:New Leadership Fiji Associates Program
DESCRIPTION:Click here to register!
URL:https://leadershipfiji.org/event/new-leadership-fiji-associates-program/
CATEGORIES:Events
ATTACH;FMTTYPE=image/jpeg:https://leadershipfiji.org/wp-content/uploads/2017/09/imageedit_2_4402518317.jpg
END:VEVENT
BEGIN:VEVENT
DTSTART;TZID=Pacific/Fiji:20190709T173000
DTEND;TZID=Pacific/Fiji:20190723T183000
DTSTAMP:20260424T055953
CREATED:20190612T210920Z
LAST-MODIFIED:20190612T210920Z
UID:12162-1562693400-1563906600@leadershipfiji.org
SUMMARY:New Program - Adaptive Leadership Series
DESCRIPTION:Limited space is available\, so hurry and register here now.
URL:https://leadershipfiji.org/event/new-program-adaptive-leadership-series/
LOCATION:Fiji
CATEGORIES:Events
ATTACH;FMTTYPE=image/png:https://leadershipfiji.org/wp-content/uploads/2019/06/Adaptative-Leadership-Series-Flyer-1-e1560373345200.png
END:VEVENT
BEGIN:VEVENT
DTSTART;TZID=Pacific/Fiji:20190703T180000
DTEND;TZID=Pacific/Fiji:20190703T200000
DTSTAMP:20260424T055953
CREATED:20190610T010031Z
LAST-MODIFIED:20190610T010031Z
UID:12156-1562176800-1562184000@leadershipfiji.org
SUMMARY:Leadership Fiji Alumni Entrepreneurs Forum
DESCRIPTION:Click to register here
URL:https://leadershipfiji.org/event/leadership-fiji-alumni-entrepreneurs-forum/
LOCATION:Fiji
CATEGORIES:Events
ATTACH;FMTTYPE=image/jpeg:https://leadershipfiji.org/wp-content/uploads/2017/09/1514107f-b689-4ec0-af3d-efde54e23d5d-e1560128372812.jpg
END:VEVENT
BEGIN:VEVENT
DTSTART;VALUE=DATE:20190618
DTEND;VALUE=DATE:20190620
DTSTAMP:20260424T055953
CREATED:20190417T040053Z
LAST-MODIFIED:20190527T015826Z
UID:12088-1560816000-1560988799@leadershipfiji.org
SUMMARY:Sales Success Conference
DESCRIPTION:View Sales Success Conference 2019 Brochure
URL:https://leadershipfiji.org/event/sales-success-conference/
LOCATION:Fiji
CATEGORIES:Events
ATTACH;FMTTYPE=image/jpeg:https://leadershipfiji.org/wp-content/uploads/2019/04/SALES-SUCCESS-CONFERENCE-COVER-FLYER-SOLD-OUT-e1558921791961.jpg
END:VEVENT
BEGIN:VEVENT
DTSTART;TZID=Pacific/Fiji:20180911T123000
DTEND;TZID=Pacific/Fiji:20180911T133000
DTSTAMP:20260424T055953
CREATED:20180831T190409Z
LAST-MODIFIED:20180831T191214Z
UID:11739-1536669000-1536672600@leadershipfiji.org
SUMMARY:Lunch & Learn: Using Emotional Intelligence to Strengthen Decision Making
DESCRIPTION:Leadership Fiji 2018 Team is proud to bring you its ﬁrst Lunch and Learn Session this September! The funds raised from the session will be directed towards the many community projects Leadership Fiji 2018 team is currently working on. \nSo for enquiries or to save a seat and book your ticket email:\nDevika.Darshani@anz.com and vchandra@bsplife.com.fj  \nCall Devika on 8644819 or Viresh on 7024153. \n 
URL:https://leadershipfiji.org/event/lunch-learn-using-emotional-intelligence-to-strengthen-decision-making/
LOCATION:ANZ House\, Level 5\, ANZ House\, Suva\, Fiji
CATEGORIES:Events
END:VEVENT
BEGIN:VEVENT
DTSTART;TZID=Pacific/Fiji:20171117T120000
DTEND;TZID=Pacific/Fiji:20171118T150000
DTSTAMP:20260424T055953
CREATED:20170927T034453Z
LAST-MODIFIED:20170927T040344Z
UID:9355-1510920000-1511017200@leadershipfiji.org
SUMMARY:Leadership Fiji Alumni (LFA) Summit
DESCRIPTION:The Power of Rosie – “Creating a Movement of Change”\nA weekend retreat for Leadership Fiji Alumni to engage with diverse like-minded professionals and a leading Agent of Change. Awarded ‘Australian of the Year’ in 2015\, Rosie set up the Luke Batty Foundation in memory of her son\, Luke Batty who was tragically killed by his father at cricket practice in February 2014\, in Tyabb\, Victoria. This led to Rosie advocating and raising around family violence in Australia and she has also established herself around the region\, as a prominent speaker on the issue of family violence.
URL:https://leadershipfiji.org/event/leadership-fiji-alumni-lfa-summit/
LOCATION:Warwick Fiji\, Via Queens Highway\, Korolevu\, Coral Coast\, Fiji
CATEGORIES:Events
ATTACH;FMTTYPE=image/jpeg:https://leadershipfiji.org/wp-content/uploads/2017/09/2017LFASummit-featured-image.jpg
END:VEVENT
END:VCALENDAR