BEGIN:VCALENDAR
VERSION:2.0
PRODID:-//Leadership Fiji - ECPv6.15.20//NONSGML v1.0//EN
CALSCALE:GREGORIAN
METHOD:PUBLISH
X-WR-CALNAME:Leadership Fiji
X-ORIGINAL-URL:https://leadershipfiji.org
X-WR-CALDESC:Events for Leadership Fiji
REFRESH-INTERVAL;VALUE=DURATION:PT1H
X-Robots-Tag:noindex
X-PUBLISHED-TTL:PT1H
BEGIN:VTIMEZONE
TZID:Pacific/Fiji
BEGIN:STANDARD
TZOFFSETFROM:+1300
TZOFFSETTO:+1200
TZNAME:+12
DTSTART:20160116T140000
END:STANDARD
BEGIN:DAYLIGHT
TZOFFSETFROM:+1200
TZOFFSETTO:+1300
TZNAME:+13
DTSTART:20161105T140000
END:DAYLIGHT
BEGIN:STANDARD
TZOFFSETFROM:+1300
TZOFFSETTO:+1200
TZNAME:+12
DTSTART:20170114T140000
END:STANDARD
BEGIN:DAYLIGHT
TZOFFSETFROM:+1200
TZOFFSETTO:+1300
TZNAME:+13
DTSTART:20171104T140000
END:DAYLIGHT
BEGIN:STANDARD
TZOFFSETFROM:+1300
TZOFFSETTO:+1200
TZNAME:+12
DTSTART:20180113T140000
END:STANDARD
BEGIN:DAYLIGHT
TZOFFSETFROM:+1200
TZOFFSETTO:+1300
TZNAME:+13
DTSTART:20181103T140000
END:DAYLIGHT
BEGIN:STANDARD
TZOFFSETFROM:+1300
TZOFFSETTO:+1200
TZNAME:+12
DTSTART:20190112T140000
END:STANDARD
BEGIN:DAYLIGHT
TZOFFSETFROM:+1200
TZOFFSETTO:+1300
TZNAME:+13
DTSTART:20191109T140000
END:DAYLIGHT
END:VTIMEZONE
BEGIN:VEVENT
DTSTART;TZID=Pacific/Fiji:20180911T123000
DTEND;TZID=Pacific/Fiji:20180911T133000
DTSTAMP:20260423T182908
CREATED:20180831T190409Z
LAST-MODIFIED:20180831T191214Z
UID:11739-1536669000-1536672600@leadershipfiji.org
SUMMARY:Lunch & Learn: Using Emotional Intelligence to Strengthen Decision Making
DESCRIPTION:Leadership Fiji 2018 Team is proud to bring you its ﬁrst Lunch and Learn Session this September! The funds raised from the session will be directed towards the many community projects Leadership Fiji 2018 team is currently working on. \nSo for enquiries or to save a seat and book your ticket email:\nDevika.Darshani@anz.com and vchandra@bsplife.com.fj  \nCall Devika on 8644819 or Viresh on 7024153. \n 
URL:https://leadershipfiji.org/event/lunch-learn-using-emotional-intelligence-to-strengthen-decision-making/
LOCATION:ANZ House\, Level 5\, ANZ House\, Suva\, Fiji
CATEGORIES:Events
END:VEVENT
BEGIN:VEVENT
DTSTART;TZID=Pacific/Fiji:20171117T120000
DTEND;TZID=Pacific/Fiji:20171118T150000
DTSTAMP:20260423T182908
CREATED:20170927T034453Z
LAST-MODIFIED:20170927T040344Z
UID:9355-1510920000-1511017200@leadershipfiji.org
SUMMARY:Leadership Fiji Alumni (LFA) Summit
DESCRIPTION:The Power of Rosie – “Creating a Movement of Change”\nA weekend retreat for Leadership Fiji Alumni to engage with diverse like-minded professionals and a leading Agent of Change. Awarded ‘Australian of the Year’ in 2015\, Rosie set up the Luke Batty Foundation in memory of her son\, Luke Batty who was tragically killed by his father at cricket practice in February 2014\, in Tyabb\, Victoria. This led to Rosie advocating and raising around family violence in Australia and she has also established herself around the region\, as a prominent speaker on the issue of family violence.
URL:https://leadershipfiji.org/event/leadership-fiji-alumni-lfa-summit/
LOCATION:Warwick Fiji\, Via Queens Highway\, Korolevu\, Coral Coast\, Fiji
CATEGORIES:Events
ATTACH;FMTTYPE=image/jpeg:https://leadershipfiji.org/wp-content/uploads/2017/09/2017LFASummit-featured-image.jpg
END:VEVENT
END:VCALENDAR