BEGIN:VCALENDAR
VERSION:2.0
PRODID:-//Leadership Fiji - ECPv6.15.20//NONSGML v1.0//EN
CALSCALE:GREGORIAN
METHOD:PUBLISH
X-ORIGINAL-URL:https://leadershipfiji.org
X-WR-CALDESC:Events for Leadership Fiji
REFRESH-INTERVAL;VALUE=DURATION:PT1H
X-Robots-Tag:noindex
X-PUBLISHED-TTL:PT1H
BEGIN:VTIMEZONE
TZID:Pacific/Fiji
BEGIN:STANDARD
TZOFFSETFROM:+1300
TZOFFSETTO:+1200
TZNAME:+12
DTSTART:20190112T140000
END:STANDARD
BEGIN:DAYLIGHT
TZOFFSETFROM:+1200
TZOFFSETTO:+1300
TZNAME:+13
DTSTART:20191109T140000
END:DAYLIGHT
BEGIN:STANDARD
TZOFFSETFROM:+1300
TZOFFSETTO:+1200
TZNAME:+12
DTSTART:20200111T140000
END:STANDARD
BEGIN:DAYLIGHT
TZOFFSETFROM:+1200
TZOFFSETTO:+1300
TZNAME:+13
DTSTART:20201219T140000
END:DAYLIGHT
BEGIN:STANDARD
TZOFFSETFROM:+1300
TZOFFSETTO:+1200
TZNAME:+12
DTSTART:20210116T140000
END:STANDARD
END:VTIMEZONE
BEGIN:VEVENT
DTSTART;TZID=Pacific/Fiji:20200715T080000
DTEND;TZID=Pacific/Fiji:20201130T000000
DTSTAMP:20260424T085837
CREATED:20200715T042038Z
LAST-MODIFIED:20200715T042414Z
UID:12355-1594800000-1606694400@leadershipfiji.org
SUMMARY:Leadership Fiji 2021 Application
DESCRIPTION:Register now to be part of this learning opportunity. Link to registration is here.
URL:https://leadershipfiji.org/event/leadership-fiji-2021-application/
CATEGORIES:Events
ATTACH;FMTTYPE=image/jpeg:https://leadershipfiji.org/wp-content/uploads/2020/07/LF2021-Call-for-Applications-colour-1-scaled.jpg
END:VEVENT
END:VCALENDAR