BEGIN:VCALENDAR
VERSION:2.0
PRODID:-//Leadership Fiji - ECPv6.15.20//NONSGML v1.0//EN
CALSCALE:GREGORIAN
METHOD:PUBLISH
X-ORIGINAL-URL:https://leadershipfiji.org
X-WR-CALDESC:Events for Leadership Fiji
REFRESH-INTERVAL;VALUE=DURATION:PT1H
X-Robots-Tag:noindex
X-PUBLISHED-TTL:PT1H
BEGIN:VTIMEZONE
TZID:Pacific/Fiji
BEGIN:STANDARD
TZOFFSETFROM:+1300
TZOFFSETTO:+1200
TZNAME:+12
DTSTART:20180113T140000
END:STANDARD
BEGIN:DAYLIGHT
TZOFFSETFROM:+1200
TZOFFSETTO:+1300
TZNAME:+13
DTSTART:20181103T140000
END:DAYLIGHT
BEGIN:STANDARD
TZOFFSETFROM:+1300
TZOFFSETTO:+1200
TZNAME:+12
DTSTART:20190112T140000
END:STANDARD
BEGIN:DAYLIGHT
TZOFFSETFROM:+1200
TZOFFSETTO:+1300
TZNAME:+13
DTSTART:20191109T140000
END:DAYLIGHT
BEGIN:STANDARD
TZOFFSETFROM:+1300
TZOFFSETTO:+1200
TZNAME:+12
DTSTART:20200111T140000
END:STANDARD
BEGIN:DAYLIGHT
TZOFFSETFROM:+1200
TZOFFSETTO:+1300
TZNAME:+13
DTSTART:20201219T140000
END:DAYLIGHT
END:VTIMEZONE
BEGIN:VEVENT
DTSTART;TZID=Pacific/Fiji:20190709T173000
DTEND;TZID=Pacific/Fiji:20190723T183000
DTSTAMP:20260423T132334
CREATED:20190612T210920Z
LAST-MODIFIED:20190612T210920Z
UID:12162-1562693400-1563906600@leadershipfiji.org
SUMMARY:New Program - Adaptive Leadership Series
DESCRIPTION:Limited space is available\, so hurry and register here now.
URL:https://leadershipfiji.org/event/new-program-adaptive-leadership-series/
LOCATION:Fiji
CATEGORIES:Events
ATTACH;FMTTYPE=image/png:https://leadershipfiji.org/wp-content/uploads/2019/06/Adaptative-Leadership-Series-Flyer-1-e1560373345200.png
END:VEVENT
END:VCALENDAR